BEGIN:VCALENDAR
VERSION:2.0
PRODID:-//ChamberMaster//Event Calendar 2.0//EN
METHOD:PUBLISH
X-PUBLISHED-TTL:P3D
REFRESH-INTERVAL:P3D
CALSCALE:GREGORIAN
BEGIN:VEVENT
DTSTART;VALUE=DATE:20260522
DTEND;VALUE=DATE:20260523
TRANSP:TRANSPARENT
X-MICROSOFT-CDO-ALLDAYEVENT:TRUE
SUMMARY:Community Event: May 22\, 2026 - Survivor Stories
DESCRIPTION:Join us for a powerful day of education and awareness on understanding complex trauma due to infant loss\, motor vehicle accidents\, and school shootings. Presenters will address each of the loss areas and speak about the most current statistics and clinical grief interventions. Personal stories from a panel of survivors in each type of loss will follow. This unique day\, hearing both from clinicians and survivors\, is sure to inspire you about the resilience of the human spirit in the face of devastating loss.
X-ALT-DESC;FMTTYPE=text/html:<span style="font-size:16px\;"><span style="font-family:times new roman\;">Join us for a powerful day of education and awareness on understanding complex trauma due to infant loss\, motor vehicle accidents\, and school shootings. Presenters will address each of the loss areas and speak about the most current statistics and clinical grief interventions. Personal stories from a panel of survivors in each type of loss will follow. This unique day\, hearing both from clinicians and survivors\, is sure to inspire you about the resilience of the human spirit in the face of devastating loss.&nbsp\;</span></span>
LOCATION:All Occasions Catering 6989 Waldo-Delaware Road\, Waldo\, OH 43356
UID:e.46.9186
SEQUENCE:3
DTSTAMP:20260422T064035Z
URL:https://business.delawareareachamber.com/events/details/community-event-may-22-2026-survivor-stories-9186
END:VEVENT

END:VCALENDAR
