BEGIN:VCALENDAR
VERSION:2.0
PRODID:-//ChamberMaster//Event Calendar 2.0//EN
METHOD:PUBLISH
X-PUBLISHED-TTL:P3D
REFRESH-INTERVAL:P3D
CALSCALE:GREGORIAN
BEGIN:VEVENT
DTSTART:20260506T223000Z
DTEND:20260506T233000Z
X-MICROSOFT-CDO-ALLDAYEVENT:FALSE
SUMMARY:Community Event: May 6\, 2026 - Evenings with Brent Carson Whatever Happened to
DESCRIPTION:Join Brent Carson for an entertaining evening when the subject will be places in Delaware County that no longer exist. This will be a walk down memory lane for Brent\, and audience members are encouraged to participate. Brent Carson is a true icon and go to person for Delaware and Delaware Country history.
X-ALT-DESC;FMTTYPE=text/html:<span style="font-size:16px\;"><span style="font-family:times new roman\;">Join Brent Carson for an entertaining evening when the subject will be places in Delaware County that no longer exist. This will be a walk down memory lane for Brent\, and audience members are encouraged to participate. Brent Carson is a true icon and go to person for Delaware and Delaware Country history.</span></span>
LOCATION:Carriage Room of The Barn at Stratford 2690 Stratford Road Delaware\, OH 43015
UID:e.46.9182
SEQUENCE:3
DTSTAMP:20260420T195147Z
URL:https://business.delawareareachamber.com/events/details/community-event-may-6-2026-evenings-with-brent-carson-whatever-happened-to-9182
END:VEVENT

END:VCALENDAR
