BEGIN:VCALENDAR
VERSION:2.0
PRODID:-//ChamberMaster//Event Calendar 2.0//EN
METHOD:PUBLISH
X-PUBLISHED-TTL:P3D
REFRESH-INTERVAL:P3D
CALSCALE:GREGORIAN
BEGIN:VEVENT
DTSTART:20260509T234500Z
DTEND:20260510T060000Z
X-MICROSOFT-CDO-ALLDAYEVENT:FALSE
SUMMARY:Community Event: May 9\, 2026 - Paranormal Tours
DESCRIPTION:Ghost Hunts are Back! Also\, Private Tours available   send email to spooky@DelawareOhio History.org for more information. Built in 1878\, the Historic Jail and Sheriff's Residence\, located at 20 West Central Ave in Delaware\, OH\, is home to several spirits. These Paranormal Tours are the perfect opportunity to find them or even discover new ones. Interested in learning more about this historic building? Come dive into a tour that covers both the history and haunts of the Historic Jail and Sheriff's Residence to learn more about what goes on after dark! Working with Tri-C Ghost Hunters\, we will be holding Paranormal Tours from April through October! There are two tours per evening\, and both will include a 2-hour paranormal tour of the building. Ticket price is $40. In order to provide the best ghost hunting experience for guests\, the number of tickets available is very limited. Not all areas of the jail may be accessed. No one under 18 will be admitted\, however 16- and 17-year-olds may be admitted with permission waivers signed by their parents or in attendance with a parent/guardian. No alcohol will be permitted. This is a lights-out investigation\, and each participant should bring their own flashlight. Other investigation tools should be limited to small items such as pendulums\, dowsing rods\, and recording devices. Schedule for each evening: Group 1: Check in begins at 7:45 PM\, intro at 8:00 PM\, 2-hour investigation starts at 8:15 PM\, debrief and departure by 10:15 PM. Group 2 check in begins at 11:15 PM\, intro at 11:30 PM\, 2-hour investigation begins at 11:45 PM\, debrief and departure by 1:45 AM.
X-ALT-DESC;FMTTYPE=text/html:<span style="font-size:16px\;"><span style="font-family:times new roman\;">Ghost Hunts are Back! Also\, Private Tours available &ndash\; send email to spooky@DelawareOhio History.org for more information. Built in 1878\, the Historic Jail and Sheriff&#39\;s Residence\, located at 20 West Central Ave in Delaware\, OH\, is home to several spirits. These Paranormal Tours are the perfect opportunity to find them or even discover new ones. Interested in learning more about this historic building? Come dive into a tour that covers both the history and haunts of the Historic Jail and Sheriff&#39\;s Residence to learn more about what goes on after dark! Working with Tri-C Ghost Hunters\, we will be holding Paranormal Tours from April through October! There are two tours per evening\, and both will include a 2-hour paranormal tour of the building. Ticket price is $40. In order to provide the best ghost hunting experience for guests\, the number of tickets available is very limited. Not all areas of the jail may be accessed. No one under 18 will be admitted\, however 16- and 17-year-olds may be admitted with permission waivers signed by their parents or in attendance with a parent/guardian. No alcohol will be permitted. This is a lights-out investigation\, and each participant should bring their own flashlight. Other investigation tools should be limited to small items such as pendulums\, dowsing rods\, and recording devices. Schedule for each evening: Group 1: Check in begins at 7:45 PM\, intro at 8:00 PM\, 2-hour investigation starts at 8:15 PM\, debrief and departure by 10:15 PM. Group 2 check in begins at 11:15 PM\, intro at 11:30 PM\, 2-hour investigation begins at 11:45 PM\, debrief and departure by 1:45 AM.</span></span>
LOCATION:Historic Jail and Sheriff's Residence 20 West Central Ave Delaware Ohio\, 43015
UID:e.46.9183
SEQUENCE:3
DTSTAMP:20260420T195930Z
URL:https://business.delawareareachamber.com/events/details/community-event-may-9-2026-paranormal-tours-9183
END:VEVENT

END:VCALENDAR
